BEGIN:VCALENDAR
VERSION:2.0
PRODID:-//Tukios.com/
BEGIN:VEVENT
UID:7d9bc1c7-719d-49e7-b4d4-d5d1b70d4071@www.goetzfuneralhomes.com
DTSTAMP:20260424T013357Z
DTSTART:20260427T153000Z
DTEND:20260427T163000Z
SUMMARY:Funeral Service
DESCRIPTION:
URL:https://www.goetzfuneralhomes.com/obituaries/jimmie-bauer
LOCATION: 1703 13th St NW  Turtle Lake ND 58575
GEO:47.6032687;-100.9091174
END:VEVENT
END:VCALENDAR