BEGIN:VCALENDAR
VERSION:2.0
PRODID:-//Tukios.com/
BEGIN:VEVENT
UID:0ccd7d6f-8900-4a71-bfb5-160e8aed4bd8@www.goetzfuneralhomes.com
DTSTAMP:20260424T013624Z
DTSTART:20260427T143000Z
DTEND:20260427T153000Z
SUMMARY:Visitation
DESCRIPTION:
URL:https://www.goetzfuneralhomes.com/obituaries/jimmie-bauer
LOCATION: 1703 13th St NW  Turtle Lake ND 58575
GEO:47.6032687;-100.9091174
END:VEVENT
END:VCALENDAR