BEGIN:VCALENDAR
VERSION:2.0
PRODID:-//Tukios.com/
BEGIN:VEVENT
UID:1a923985-652b-4608-8a72-37ef34287237@www.goetzfuneralhomes.com
DTSTAMP:20260424T013522Z
DTSTART:20260427T180000Z
DTEND:20260427T190000Z
SUMMARY:Burial
DESCRIPTION:
URL:https://www.goetzfuneralhomes.com/obituaries/jimmie-bauer
LOCATION:East Crooked Lake Cemetery 1099 19th st nw  Turtle Lake ND 58575
GEO:47.692347;-100.910628
END:VEVENT
END:VCALENDAR