BEGIN:VCALENDAR
VERSION:2.0
PRODID:-//Tukios.com/
BEGIN:VEVENT
UID:7ccfa67a-4001-40aa-a0e4-f0af9af8762b@www.goetzfuneralhomes.com
DTSTAMP:20260422T200251Z
DTSTART:20260502T150000Z
DTEND:20260502T160000Z
SUMMARY:Visitation
DESCRIPTION:
URL:https://www.goetzfuneralhomes.com/obituaries/ashley-ross
LOCATION: 505 3rd Street  Underwood ND 58576
GEO:47.4536867;-101.1391268
END:VEVENT
END:VCALENDAR