BEGIN:VCALENDAR
VERSION:2.0
PRODID:-//Tukios.com/
BEGIN:VEVENT
UID:632aa07c-ac5c-42ff-9a03-e19357b2ab58@www.goetzfuneralhomes.com
DTSTAMP:20260422T200251Z
DTSTART:20260502T160000Z
DTEND:20260502T170000Z
SUMMARY:Memorial Service
DESCRIPTION:
URL:https://www.goetzfuneralhomes.com/obituaries/ashley-ross
LOCATION: 505 3rd Street  Underwood ND 58576
GEO:47.4536867;-101.1391268
END:VEVENT
END:VCALENDAR